BEGIN:VCALENDAR
VERSION:2.0
PRODID:-//Tabernacle Alexandria Store - ECPv6.15.20//NONSGML v1.0//EN
CALSCALE:GREGORIAN
METHOD:PUBLISH
X-WR-CALNAME:Tabernacle Alexandria Store
X-ORIGINAL-URL:https://www.tabernaclealexandria.com
X-WR-CALDESC:Events for Tabernacle Alexandria Store
REFRESH-INTERVAL;VALUE=DURATION:PT1H
X-Robots-Tag:noindex
X-PUBLISHED-TTL:PT1H
BEGIN:VTIMEZONE
TZID:America/New_York
BEGIN:DAYLIGHT
TZOFFSETFROM:-0500
TZOFFSETTO:-0400
TZNAME:EDT
DTSTART:20240310T070000
END:DAYLIGHT
BEGIN:STANDARD
TZOFFSETFROM:-0400
TZOFFSETTO:-0500
TZNAME:EST
DTSTART:20241103T060000
END:STANDARD
BEGIN:DAYLIGHT
TZOFFSETFROM:-0500
TZOFFSETTO:-0400
TZNAME:EDT
DTSTART:20250309T070000
END:DAYLIGHT
BEGIN:STANDARD
TZOFFSETFROM:-0400
TZOFFSETTO:-0500
TZNAME:EST
DTSTART:20251102T060000
END:STANDARD
BEGIN:DAYLIGHT
TZOFFSETFROM:-0500
TZOFFSETTO:-0400
TZNAME:EDT
DTSTART:20260308T070000
END:DAYLIGHT
BEGIN:STANDARD
TZOFFSETFROM:-0400
TZOFFSETTO:-0500
TZNAME:EST
DTSTART:20261101T060000
END:STANDARD
END:VTIMEZONE
BEGIN:VEVENT
DTSTART;VALUE=DATE:20250729
DTEND;VALUE=DATE:20250803
DTSTAMP:20260420T102119
CREATED:20250508T202219Z
LAST-MODIFIED:20250508T202314Z
UID:2494-1753747200-1754179199@www.tabernaclealexandria.com
SUMMARY:OWCI Holy Convocation
DESCRIPTION:
URL:https://www.tabernaclealexandria.com/event/owci-holy-convocation/
CATEGORIES:All Events
ATTACH;FMTTYPE=image/png:https://www.tabernaclealexandria.com/wp-content/uploads/2025/05/Screenshot-2025-05-08-at-4.20.39-PM.png
END:VEVENT
BEGIN:VEVENT
DTSTART;TZID=America/New_York:20250625T160000
DTEND;TZID=America/New_York:20250625T180000
DTSTAMP:20260420T102119
CREATED:20250508T200727Z
LAST-MODIFIED:20250508T215811Z
UID:2478-1750867200-1750874400@www.tabernaclealexandria.com
SUMMARY:"Get Life in The City" Food Pantry
DESCRIPTION:Every 2nd and 4th Wednesday from 4pm – 6pm.
URL:https://www.tabernaclealexandria.com/event/get-life-in-the-city-food-pantry-4/
CATEGORIES:All Events
ATTACH;FMTTYPE=image/jpeg:https://www.tabernaclealexandria.com/wp-content/uploads/2025/05/City-of-Our-God-2024GET-IN-THE-CITY.jpg
END:VEVENT
BEGIN:VEVENT
DTSTART;TZID=America/New_York:20250621T180000
DTEND;TZID=America/New_York:20250621T200000
DTSTAMP:20260420T102119
CREATED:20250508T201735Z
LAST-MODIFIED:20250508T201735Z
UID:2492-1750528800-1750536000@www.tabernaclealexandria.com
SUMMARY:Founder's Day Celebration
DESCRIPTION:
URL:https://www.tabernaclealexandria.com/event/founders-day-celebration/
LOCATION:Tabernacle Alexandria\, 110 N. Fayette St.\, Alexandria\, VA\, 22314\, United States
CATEGORIES:All Events
ATTACH;FMTTYPE=image/jpeg:https://www.tabernaclealexandria.com/wp-content/uploads/2025/05/ta-video-cover.jpg
END:VEVENT
BEGIN:VEVENT
DTSTART;TZID=America/New_York:20250611T160000
DTEND;TZID=America/New_York:20250611T180000
DTSTAMP:20260420T102119
CREATED:20250508T200708Z
LAST-MODIFIED:20250508T215836Z
UID:2476-1749657600-1749664800@www.tabernaclealexandria.com
SUMMARY:"Get Life in The City" Food Pantry
DESCRIPTION:Every 2nd and 4th Wednesday from 4pm – 6pm.
URL:https://www.tabernaclealexandria.com/event/get-life-in-the-city-food-pantry-3/
CATEGORIES:All Events
ATTACH;FMTTYPE=image/jpeg:https://www.tabernaclealexandria.com/wp-content/uploads/2025/05/City-of-Our-God-2024GET-IN-THE-CITY.jpg
END:VEVENT
BEGIN:VEVENT
DTSTART;TZID=America/New_York:20250601T120000
DTEND;TZID=America/New_York:20250601T140000
DTSTAMP:20260420T102119
CREATED:20250508T201442Z
LAST-MODIFIED:20250508T201442Z
UID:2488-1748779200-1748786400@www.tabernaclealexandria.com
SUMMARY:Sunday Worship Encounter
DESCRIPTION:
URL:https://www.tabernaclealexandria.com/event/sunday-worship-encounter-4/
LOCATION:Tabernacle Alexandria\, 110 N. Fayette St.\, Alexandria\, VA\, 22314\, United States
CATEGORIES:All Events
ATTACH;FMTTYPE=image/png:https://www.tabernaclealexandria.com/wp-content/uploads/2025/05/ta-slide1.png
END:VEVENT
BEGIN:VEVENT
DTSTART;TZID=America/New_York:20250528T160000
DTEND;TZID=America/New_York:20250528T180000
DTSTAMP:20260420T102119
CREATED:20250508T200634Z
LAST-MODIFIED:20250508T215931Z
UID:2474-1748448000-1748455200@www.tabernaclealexandria.com
SUMMARY:"Get Life in The City" Food Pantry
DESCRIPTION:Every 2nd and 4th Wednesday from 4pm – 6pm.
URL:https://www.tabernaclealexandria.com/event/get-life-in-the-city-food-pantry-2/
CATEGORIES:All Events
ATTACH;FMTTYPE=image/jpeg:https://www.tabernaclealexandria.com/wp-content/uploads/2025/05/City-of-Our-God-2024GET-IN-THE-CITY.jpg
END:VEVENT
BEGIN:VEVENT
DTSTART;TZID=America/New_York:20250525T120000
DTEND;TZID=America/New_York:20250525T140000
DTSTAMP:20260420T102119
CREATED:20250508T201417Z
LAST-MODIFIED:20250508T201417Z
UID:2486-1748174400-1748181600@www.tabernaclealexandria.com
SUMMARY:Sunday Worship Encounter
DESCRIPTION:
URL:https://www.tabernaclealexandria.com/event/sunday-worship-encounter-3/
LOCATION:Tabernacle Alexandria\, 110 N. Fayette St.\, Alexandria\, VA\, 22314\, United States
CATEGORIES:All Events
ATTACH;FMTTYPE=image/png:https://www.tabernaclealexandria.com/wp-content/uploads/2025/05/ta-slide1.png
END:VEVENT
BEGIN:VEVENT
DTSTART;TZID=America/New_York:20250518T120000
DTEND;TZID=America/New_York:20250518T140000
DTSTAMP:20260420T102119
CREATED:20250508T201352Z
LAST-MODIFIED:20250508T201352Z
UID:2484-1747569600-1747576800@www.tabernaclealexandria.com
SUMMARY:Sunday Worship Encounter
DESCRIPTION:
URL:https://www.tabernaclealexandria.com/event/sunday-worship-encounter-2/
LOCATION:Tabernacle Alexandria\, 110 N. Fayette St.\, Alexandria\, VA\, 22314\, United States
CATEGORIES:All Events
ATTACH;FMTTYPE=image/png:https://www.tabernaclealexandria.com/wp-content/uploads/2025/05/ta-slide1.png
END:VEVENT
BEGIN:VEVENT
DTSTART;TZID=America/New_York:20250514T160000
DTEND;TZID=America/New_York:20250514T180000
DTSTAMP:20260420T102119
CREATED:20250508T200354Z
LAST-MODIFIED:20250508T215906Z
UID:2471-1747238400-1747245600@www.tabernaclealexandria.com
SUMMARY:"Get Life in The City" Food Pantry
DESCRIPTION:Every 2nd and 4th Wednesday from 4pm – 6pm.
URL:https://www.tabernaclealexandria.com/event/get-life-in-the-city-food-pantry/
CATEGORIES:All Events
ATTACH;FMTTYPE=image/jpeg:https://www.tabernaclealexandria.com/wp-content/uploads/2025/05/City-of-Our-God-2024GET-IN-THE-CITY.jpg
END:VEVENT
BEGIN:VEVENT
DTSTART;TZID=America/New_York:20250511T120000
DTEND;TZID=America/New_York:20250511T140000
DTSTAMP:20260420T102119
CREATED:20250508T201237Z
LAST-MODIFIED:20250508T201237Z
UID:2481-1746964800-1746972000@www.tabernaclealexandria.com
SUMMARY:Sunday Worship Encounter
DESCRIPTION:
URL:https://www.tabernaclealexandria.com/event/sunday-worship-encounter/
LOCATION:Tabernacle Alexandria\, 110 N. Fayette St.\, Alexandria\, VA\, 22314\, United States
CATEGORIES:All Events
ATTACH;FMTTYPE=image/png:https://www.tabernaclealexandria.com/wp-content/uploads/2025/05/ta-slide1.png
END:VEVENT
BEGIN:VEVENT
DTSTART;TZID=America/New_York:20250509T120000
DTEND;TZID=America/New_York:20250509T140000
DTSTAMP:20260420T102119
CREATED:20250508T201624Z
LAST-MODIFIED:20250508T201921Z
UID:2490-1746792000-1746799200@www.tabernaclealexandria.com
SUMMARY:Mother's Day @ The Tab
DESCRIPTION:
URL:https://www.tabernaclealexandria.com/event/mothers-day-the-tab/
CATEGORIES:All Events
ATTACH;FMTTYPE=image/png:https://www.tabernaclealexandria.com/wp-content/uploads/2025/05/ta-slide1.png
END:VEVENT
END:VCALENDAR